BEGIN:VCALENDAR
VERSION:2.0
PRODID:http://www.kufer.de/kuferweb / DE
METHOD:PUBLISH
CALSCALE:GREGORIAN
X-WR-TIMEZONE:Europe/Berlin
BEGIN:VTIMEZONE
TZID:Europe/Berlin
X-LIC-LOCATION:Europe/Berlin
BEGIN:DAYLIGHT
TZOFFSETFROM:+0100
TZOFFSETTO:+0200
TZNAME:CEST
DTSTART;TZID=Europe/Berlin:19700329T020000
RRULE:FREQ=YEARLY;INTERVAL=1;BYDAY=-1SU;BYMONTH=3
END:DAYLIGHT
BEGIN:STANDARD
TZOFFSETFROM:+0200
TZOFFSETTO:+0100
TZNAME:CET
DTSTART;TZID=Europe/Berlin:19701025T030000
RRULE:FREQ=YEARLY;INTERVAL=1;BYDAY=-1SU;BYMONTH=10
END:STANDARD
END:VTIMEZONE
BEGIN:VEVENT
DTSTAMP:20260423T090826
DTSTART;TZID=Europe/Berlin:20260420T163000
DTEND;TZID=Europe/Berlin:20260420T180000
UID:3.101-SO26-20260420T163000@BTUCOTTBUS-SENFTENBERG
SUMMARY:Schreibworkshop-Fantasiegeschichten (3.101-SO26) 
LOCATION:BTU, Lehrgebäude 10, Seminarraum 112, Erich-Weinert-Straße 1, 03046 Cottbus
END:VEVENT
BEGIN:VEVENT
DTSTAMP:20260423T090826
DTSTART;TZID=Europe/Berlin:20260511T163000
DTEND;TZID=Europe/Berlin:20260511T180000
UID:3.101-SO26-20260511T163000@BTUCOTTBUS-SENFTENBERG
SUMMARY:Schreibworkshop-Fantasiegeschichten (3.101-SO26) 
LOCATION:BTU, Lehrgebäude 10, Seminarraum 112, Erich-Weinert-Straße 1, 03046 Cottbus
END:VEVENT
BEGIN:VEVENT
DTSTAMP:20260423T090826
DTSTART;TZID=Europe/Berlin:20260608T163000
DTEND;TZID=Europe/Berlin:20260608T180000
UID:3.101-SO26-20260608T163000@BTUCOTTBUS-SENFTENBERG
SUMMARY:Schreibworkshop-Fantasiegeschichten (3.101-SO26) 
LOCATION:BTU, Lehrgebäude 10, Seminarraum 112, Erich-Weinert-Straße 1, 03046 Cottbus
END:VEVENT
BEGIN:VEVENT
DTSTAMP:20260423T090826
DTSTART;TZID=Europe/Berlin:20260713T163000
DTEND;TZID=Europe/Berlin:20260713T180000
UID:3.101-SO26-20260713T163000@BTUCOTTBUS-SENFTENBERG
SUMMARY:Schreibworkshop-Fantasiegeschichten (3.101-SO26) 
LOCATION:BTU, Lehrgebäude 10, Seminarraum 112, Erich-Weinert-Straße 1, 03046 Cottbus
END:VEVENT
BEGIN:VEVENT
DTSTAMP:20260423T090826
DTSTART;TZID=Europe/Berlin:20260803T163000
DTEND;TZID=Europe/Berlin:20260803T180000
UID:3.101-SO26-20260803T163000@BTUCOTTBUS-SENFTENBERG
SUMMARY:Schreibworkshop-Fantasiegeschichten (3.101-SO26) 
LOCATION:BTU, Lehrgebäude 10, Seminarraum 112, Erich-Weinert-Straße 1, 03046 Cottbus
END:VEVENT
END:VCALENDAR